BEGIN:VCALENDAR
VERSION:2.0
PRODID:-//hacksw/handcal//NONSGML v1.0//EN
BEGIN:VEVENT
SUMMARY:Championnat du Morbihan de Rapides 2026
UID:91d6e976-2226-4d2c-91e0-dce7abc30ba2
DTSTART:20260620T220000Z
DTEND:20260621T220000Z
LOCATION:Localisation 5 rue du General Giraud 56800 Ploermel
CATEGORIES:Sportif
STATUS:
DESCRIPTION:<p>Lieu : Salle des fetes de Ploermel</p>
 
 <p>3 tournois
 (U8/U10, U12/U14 et Principal), 7 rondes de 15' + 3"/coup ; pointage
 entre 8h30 et 9h30</p>
 
 <p>Tarifs : 12€/adulte et
 6€/jeune</p>
 
 <p>Presinscription avant le 17/06/2026 : <span
 style="color:#3498db;">pgeorget56@gmail.com</span> - 06.21.82.69.11
 (SMS)</p>
 
 <p> </p>
URL;VALUE=URI:https://echiquierpontivy.sportsregions.fr/evenements/2026/06/21/championnat-du-morbihan-de-rapides-2026-2438468
END:VEVENT
END:VCALENDAR
